BEGIN:VCALENDAR
VERSION:2.0
PRODID:-//Pimpinan Pusat FSP RTMM-SPSI - ECPv6.15.16//NONSGML v1.0//EN
CALSCALE:GREGORIAN
METHOD:PUBLISH
X-WR-CALNAME:Pimpinan Pusat FSP RTMM-SPSI
X-ORIGINAL-URL:https://www.serikatpekerjartmm.com
X-WR-CALDESC:Events for Pimpinan Pusat FSP RTMM-SPSI
REFRESH-INTERVAL;VALUE=DURATION:PT1H
X-Robots-Tag:noindex
X-PUBLISHED-TTL:PT1H
BEGIN:VTIMEZONE
TZID:Asia/Jakarta
BEGIN:STANDARD
TZOFFSETFROM:+0700
TZOFFSETTO:+0700
TZNAME:WIB
DTSTART:20230101T000000
END:STANDARD
END:VTIMEZONE
BEGIN:VEVENT
DTSTART;TZID=Asia/Jakarta:20241010T090000
DTEND;TZID=Asia/Jakarta:20241010T170000
DTSTAMP:20260421T054701
CREATED:20241004T041827Z
LAST-MODIFIED:20241004T041827Z
UID:2452-1728550800-1728579600@www.serikatpekerjartmm.com
SUMMARY:Aksi Unjuk Rasa Cabut!! Pasal -Pasal PP28/24 dan Tolak!! PERMENKES Turunannya yang Mengancam Kelangsungan Usaha & Pekerja Didalamnya (Rokok & Mamin)
DESCRIPTION:https://www.serikatpekerjartmm.com/wp-content/uploads/2024/10/WhatsApp-Video-2024-10-04-at-10.59.07.mp4\n\n\nPeraturan Pemerintah (PP) Nomor 28 tahun 2024 tentang Peraturan Pelaksanaan Undang-Undang Nomor 17 Tahun 2023 tentang Kesehatan menghadirkan banyak kontroversi dari sudut pandang pelaku IHT (Industri Hasil Tembakau). Peraturan Pemerintah ini dinilai akan membuat sektor IHT Makin terpuruk. IHT diatur oleh dua pertaruan yakni fiskal dan nonfiskal. Peraturan fiskal dapat dilihat dari harga cukai yang setiap tahunnya terus mengalami kenaikan yang signiftikan. Sedangkan regulasi non fiskal seperti UU Kesehatan atau PP 28/2024 dan RPMK selalu menjadi  tekanan serius yang dialami oleh IHT yang berimbas langsung terhadap kesejahteraan pekerja sektor IHT.3000 Anggota FSP RTMM-SPSI Siap Unjuk Rasa KEMENKES\, &#8220;BATALKAN REGULASI ROKOK TEMBAKAU MAKANAN MINUMAN YANG UGAL-UGALAN&#8221; \n  \nAspek perlindungan kesehatan masyarakat menjadi dasar pemerintah dalam menetapkan kebijakan dan berbagai regulasi industri rokok\, tembakau\, makanan\, dan minuman. Hal ini menjadikan seolah-olah entitas yang mengkritisi regulasi ini menjadi pihak yang kontra dalam usaha peningkatan Kesehatan Masyarakat.  FSP RTMM-SPSI tidak anti regulasi\, terlebih regulasi yang berbasis untuk kesehatan masyarakat. Namun demikian sebagai Serikat Pekerja kita harus mengupayakan bersama agar regulasi dibuat harus mempertimbangkan semua kepentingan khususnya pekerja. \n  \nAsas keterlibatan publik dalam pembentukan undang-undang adalah asas keterbukaan yang harus dilandasi dalam setiap tahapan proses pembentukan undang-undang. Asas ini memastikan bahwa proses pembentukan undang-undang bersifat transparan dan terbuka\, sehingga publik dapat mengawasi dan terlibat. Masyarakat berhak memberikan masukan secara lisan maupun tertulis dalam pembentukan undang-undang. \n  \nSelain sektor Industri Hasil Tembakau\, Sektor Industri Makanan dan Minuman juga akan mulai diatur pengendaliannya (Penerapan Cukai sebagai Sin Tax). Hal tersebut dapat dilihat dari Undang-Undang No.17 Tahun 2023 Tentang Kesehatan\, Peraturan Pemerintah No.28 Tahun 2024\, yang dimungkinkan akan berlanjut melalui peraturan menteri dan sejenisnya. Regulasi pemerintah tentang kesehatan akan berdampak juga terhadap sektor industri makanan dan minuman\, terutama yang mengandung kadar gula\, garam\, dan lemak (GGL).https://www.instagram.com/reel/DAsAmAhS_Eq/?igsh=MWJocHMybDB3emhhaA== \n  \nBerbagai media menginformasikan bahwa mulai tahun 2025 akan mulai diterapkan cukai untuk minuman berpemanis dalam kemasan (MBDK)\, susu formula\, dan makanan kecil (snack) yang sering dikonsumsi oleh anak-anak. Berbagai produk tersebut disinyalir menimbulkan dampak kesehatan bagi masyarakat\, khususnya anak-anak. Serupa dengan berbagai regulasi tembakau\, regulasi terkait Industri Makanan dan Minuman ini juga perlu dibedah dan dikritisi secara proporsional. Terdapat jutaan pekerja yang akan terdampak dengan terjadinya perubahan regulasi.
URL:https://www.serikatpekerjartmm.com/event/aksi-unjuk-rasa-cabut-pasal-pasal-pp28-24-dan-tolak-permenkes-turunannya-yang-mengancam-kelangsungan-usaha-pekerja-didalamnya-rokok-mamin/
LOCATION:Kementrian Kesehehatan Republik Indonesia\, Jl. H. R. Rasuna Said No.Kav 4-9 Blok X-5\, RT.1/RW.2\, Kuningan\, Kecamatan Setiabudi\, Kota Jakarta Selatan\, Daerah Khusus Ibukota Jakarta 12950\, Jakarta\, Jakarta\, 12950\, Indonesia
ATTACH;FMTTYPE=image/jpeg:https://www.serikatpekerjartmm.com/wp-content/uploads/2024/10/WhatsApp-Image-2024-10-04-at-11.09.03-scaled.jpeg
END:VEVENT
END:VCALENDAR